BEGIN:VCALENDAR
VERSION:2.0
PRODID:-//Alumni UVa - ECPv5.9.0//NONSGML v1.0//EN
CALSCALE:GREGORIAN
METHOD:PUBLISH
X-WR-CALNAME:Alumni UVa
X-ORIGINAL-URL:https://alumni.uva.es
X-WR-CALDESC:Eventos para Alumni UVa
BEGIN:VTIMEZONE
TZID:Europe/Madrid
BEGIN:DAYLIGHT
TZOFFSETFROM:+0100
TZOFFSETTO:+0200
TZNAME:CEST
DTSTART:20240331T010000
END:DAYLIGHT
BEGIN:STANDARD
TZOFFSETFROM:+0200
TZOFFSETTO:+0100
TZNAME:CET
DTSTART:20241027T010000
END:STANDARD
END:VTIMEZONE
BEGIN:VEVENT
DTSTART;TZID=Europe/Madrid:20240426T113000
DTEND;TZID=Europe/Madrid:20240426T133000
DTSTAMP:20260419T174308
CREATED:20240422T125141Z
LAST-MODIFIED:20240424T080634Z
UID:18282-1714131000-1714138200@alumni.uva.es
SUMMARY:Mesa redonda
DESCRIPTION:Mesa redonda ‘Talento Legal en las Empresas: Seguro de Éxito’ el próximo 26 de abril! 🗓️ \nEsta es una oportunidad única para conocer de cerca las diferentes carreras profesionales que pueden emprender los alumnos de Derecho y Derecho y ADE. Además\, podrás descubrir los perfiles que demanda el mercado y obtener consejos sobre cómo potenciar tu empleabilidad. \nSe realizará en el salón de actos de la facultad de Derecho. Entrada libre hasta completar aforo.
URL:https://alumni.uva.es/evento/mesa-redonda-2/
ATTACH;FMTTYPE=image/jpeg:https://alumni.uva.es/wp-content/uploads/2024/04/Imagen-Instagram.jpg
END:VEVENT
END:VCALENDAR